BEGIN:VCALENDAR
VERSION:2.0
PRODID:-//Bike Week Winnipeg - ECPv6.15.18//NONSGML v1.0//EN
CALSCALE:GREGORIAN
METHOD:PUBLISH
X-ORIGINAL-URL:https://bikeweekwinnipeg.com
X-WR-CALDESC:Events for Bike Week Winnipeg
REFRESH-INTERVAL;VALUE=DURATION:PT1H
X-Robots-Tag:noindex
X-PUBLISHED-TTL:PT1H
BEGIN:VTIMEZONE
TZID:America/Winnipeg
BEGIN:DAYLIGHT
TZOFFSETFROM:-0600
TZOFFSETTO:-0500
TZNAME:CDT
DTSTART:20230312T080000
END:DAYLIGHT
BEGIN:STANDARD
TZOFFSETFROM:-0500
TZOFFSETTO:-0600
TZNAME:CST
DTSTART:20231105T070000
END:STANDARD
BEGIN:DAYLIGHT
TZOFFSETFROM:-0600
TZOFFSETTO:-0500
TZNAME:CDT
DTSTART:20240310T080000
END:DAYLIGHT
BEGIN:STANDARD
TZOFFSETFROM:-0500
TZOFFSETTO:-0600
TZNAME:CST
DTSTART:20241103T070000
END:STANDARD
BEGIN:DAYLIGHT
TZOFFSETFROM:-0600
TZOFFSETTO:-0500
TZNAME:CDT
DTSTART:20250309T080000
END:DAYLIGHT
BEGIN:STANDARD
TZOFFSETFROM:-0500
TZOFFSETTO:-0600
TZNAME:CST
DTSTART:20251102T070000
END:STANDARD
END:VTIMEZONE
BEGIN:VEVENT
DTSTART;TZID=America/Winnipeg:20240615T110000
DTEND;TZID=America/Winnipeg:20240615T130000
DTSTAMP:20260420T211424
CREATED:20240523T145029Z
LAST-MODIFIED:20240603T171408Z
UID:10000184-1718449200-1718456400@bikeweekwinnipeg.com
SUMMARY:2nd Annual Kidical Mass
DESCRIPTION:Come join Bike Winnipeg for the 2nd annual Kidical Mass ride. The ride will begin at Vimy Ridge Park (Preston and Canora in Wolseley) and end at the Bike Week Bash (south frounds of the legislature) where there will be music and activities for the whole family! We will meet at 11:00 am for some bike decorating and start to ride at 11:30. \n\n\n\nThe ride will be family and of course kid friendly and will move at whatever pace the kids set. We will have a short snack break halfway through the ride before ending at the Bike Week Bash. Let’s make Kidical Mass a Winnipeg tradition. \n\n\n\nFor more information check out www.bikewinnipeg.ca
URL:https://bikeweekwinnipeg.com/event/2nd-annual-kidical-mass/
LOCATION:Vimy Ridge Park\, 821 Preston Ave\, Winnipeg\, Manitoba\, Canada
CATEGORIES:Events Presented by Bike Week,Family Friendly Events,Group Rides
END:VEVENT
END:VCALENDAR