BEGIN:VCALENDAR
VERSION:2.0
PRODID:-//Bike Week Winnipeg - ECPv6.15.18//NONSGML v1.0//EN
CALSCALE:GREGORIAN
METHOD:PUBLISH
X-ORIGINAL-URL:https://bikeweekwinnipeg.com
X-WR-CALDESC:Events for Bike Week Winnipeg
REFRESH-INTERVAL;VALUE=DURATION:PT1H
X-Robots-Tag:noindex
X-PUBLISHED-TTL:PT1H
BEGIN:VTIMEZONE
TZID:America/Winnipeg
BEGIN:DAYLIGHT
TZOFFSETFROM:-0600
TZOFFSETTO:-0500
TZNAME:CDT
DTSTART:20230312T080000
END:DAYLIGHT
BEGIN:STANDARD
TZOFFSETFROM:-0500
TZOFFSETTO:-0600
TZNAME:CST
DTSTART:20231105T070000
END:STANDARD
BEGIN:DAYLIGHT
TZOFFSETFROM:-0600
TZOFFSETTO:-0500
TZNAME:CDT
DTSTART:20240310T080000
END:DAYLIGHT
BEGIN:STANDARD
TZOFFSETFROM:-0500
TZOFFSETTO:-0600
TZNAME:CST
DTSTART:20241103T070000
END:STANDARD
BEGIN:DAYLIGHT
TZOFFSETFROM:-0600
TZOFFSETTO:-0500
TZNAME:CDT
DTSTART:20250309T080000
END:DAYLIGHT
BEGIN:STANDARD
TZOFFSETFROM:-0500
TZOFFSETTO:-0600
TZNAME:CST
DTSTART:20251102T070000
END:STANDARD
END:VTIMEZONE
BEGIN:VEVENT
DTSTART;TZID=America/Winnipeg:20240623T150000
DTEND;TZID=America/Winnipeg:20240623T170000
DTSTAMP:20260419T101951
CREATED:20240604T171841Z
LAST-MODIFIED:20240605T155127Z
UID:10003036-1719154800-1719162000@bikeweekwinnipeg.com
SUMMARY:Fancy Women Bike Ride
DESCRIPTION:Happy World Bicycle Day!\n\n\n\nTo celebrate the best day of the year\, join the Fancy Women Bike Ride! \n\n\n\nBicycles played an instrumental part in women’s independence and continue giving women the freedom of mobility. \n\n\n\nWe will meet at The Forks by the WINNIPEG sign. \n\n\n\nAll are invited\, however\, we ask that anyone who doesn’t identify as a woman ride behind us\, supporting and celebrating us!
URL:https://bikeweekwinnipeg.com/event/fancy-women-bike-ride/
LOCATION:The Forks\, Forks Market Road\, Winnipeg\, Manitoba\, R3C 4L9\, Canada
CATEGORIES:Group Rides
GEO:49.8870659;-97.1314518
X-APPLE-STRUCTURED-LOCATION;VALUE=URI;X-ADDRESS=The Forks Forks Market Road Winnipeg Manitoba R3C 4L9 Canada;X-APPLE-RADIUS=500;X-TITLE=Forks Market Road:geo:-97.1314518,49.8870659
END:VEVENT
END:VCALENDAR