BEGIN:VCALENDAR
VERSION:2.0
PRODID:-//Bike Week Winnipeg - ECPv6.15.18//NONSGML v1.0//EN
CALSCALE:GREGORIAN
METHOD:PUBLISH
X-WR-CALNAME:Bike Week Winnipeg
X-ORIGINAL-URL:https://bikeweekwinnipeg.com
X-WR-CALDESC:Events for Bike Week Winnipeg
REFRESH-INTERVAL;VALUE=DURATION:PT1H
X-Robots-Tag:noindex
X-PUBLISHED-TTL:PT1H
BEGIN:VTIMEZONE
TZID:America/Winnipeg
BEGIN:DAYLIGHT
TZOFFSETFROM:-0600
TZOFFSETTO:-0500
TZNAME:CDT
DTSTART:20250309T080000
END:DAYLIGHT
BEGIN:STANDARD
TZOFFSETFROM:-0500
TZOFFSETTO:-0600
TZNAME:CST
DTSTART:20251102T070000
END:STANDARD
BEGIN:DAYLIGHT
TZOFFSETFROM:-0600
TZOFFSETTO:-0500
TZNAME:CDT
DTSTART:20260308T080000
END:DAYLIGHT
BEGIN:STANDARD
TZOFFSETFROM:-0500
TZOFFSETTO:-0600
TZNAME:CST
DTSTART:20261101T070000
END:STANDARD
BEGIN:DAYLIGHT
TZOFFSETFROM:-0600
TZOFFSETTO:-0500
TZNAME:CDT
DTSTART:20270314T080000
END:DAYLIGHT
BEGIN:STANDARD
TZOFFSETFROM:-0500
TZOFFSETTO:-0600
TZNAME:CST
DTSTART:20271107T070000
END:STANDARD
END:VTIMEZONE
BEGIN:VEVENT
DTSTART;TZID=America/Winnipeg:20260609T063000
DTEND;TZID=America/Winnipeg:20260609T090000
DTSTAMP:20260423T084908
CREATED:20260331T175448Z
LAST-MODIFIED:20260405T005713Z
UID:10005552-1780986600-1780995600@bikeweekwinnipeg.com
SUMMARY:Stantec Pit Stop
DESCRIPTION:
URL:https://bikeweekwinnipeg.com/event/stantec-pit-stop/
LOCATION:Assiniboine and Garry\, Assiniboine and Garry\, Winnipeg\, Manitoba\, Canada
CATEGORIES:Bike to Work Day,Pit Stops
ATTACH;FMTTYPE=image/png:https://bikeweekwinnipeg.com/wp-content/uploads/2026/03/BW2026-Stantec.png
GEO:49.88593155379;-97.136419581738
X-APPLE-STRUCTURED-LOCATION;VALUE=URI;X-ADDRESS=Assiniboine and Garry Assiniboine and Garry Winnipeg Manitoba Canada;X-APPLE-RADIUS=500;X-TITLE=Assiniboine and Garry:geo:-97.136419581738,49.88593155379
END:VEVENT
BEGIN:VEVENT
DTSTART;TZID=America/Winnipeg:20260609T063000
DTEND;TZID=America/Winnipeg:20260609T090000
DTSTAMP:20260423T084908
CREATED:20260402T133836Z
LAST-MODIFIED:20260407T201147Z
UID:10005558-1780986600-1780995600@bikeweekwinnipeg.com
SUMMARY:Tire Stewardship Pit Stop
DESCRIPTION:
URL:https://bikeweekwinnipeg.com/event/tire-stewardship/
LOCATION:The Forks – CityTV Building\, 8 Forks Market Rd\, Winnipeg\, Manitoba\, R3C 4Y3
CATEGORIES:Bike to Work Day,On-Site Mechanic,Pit Stops
ATTACH;FMTTYPE=image/png:https://bikeweekwinnipeg.com/wp-content/uploads/2026/03/Copy-of-20th-ANNUAL-BIKE-TO-WORK-DAY-2-1.png
END:VEVENT
BEGIN:VEVENT
DTSTART;TZID=America/Winnipeg:20260609T063000
DTEND;TZID=America/Winnipeg:20260609T090000
DTSTAMP:20260423T084908
CREATED:20260402T141033Z
LAST-MODIFIED:20260407T201303Z
UID:10005559-1780986600-1780995600@bikeweekwinnipeg.com
SUMMARY:CAA Manitoba Pit Stop
DESCRIPTION:
URL:https://bikeweekwinnipeg.com/event/caa-pit-stop/
LOCATION:Legislative Building Grounds – Osborne & Assiniboine\, Winnipeg\, Manitoba\, Canada
CATEGORIES:Bike to Work Day,On-Site Mechanic,Pit Stops
ATTACH;FMTTYPE=image/png:https://bikeweekwinnipeg.com/wp-content/uploads/2026/04/2.png
GEO:49.882727210649;-97.148126445403
END:VEVENT
BEGIN:VEVENT
DTSTART;TZID=America/Winnipeg:20260609T063000
DTEND;TZID=America/Winnipeg:20260609T090000
DTSTAMP:20260423T084908
CREATED:20260402T145814Z
LAST-MODIFIED:20260407T201030Z
UID:10005561-1780986600-1780995600@bikeweekwinnipeg.com
SUMMARY:HTFC Planning and Design & Number TEN Architectural Group Pit Stop
DESCRIPTION:
URL:https://bikeweekwinnipeg.com/event/htfc-planning-and-design-number-ten-architectural-group/
LOCATION:Waterfront Drive – North Roundabout\, Waterfront Dr\, Winnipeg\, Manitoba\, R3B 0C5\, Canada
CATEGORIES:Bike to Work Day,On-Site Mechanic,Pit Stops
ATTACH;FMTTYPE=image/png:https://bikeweekwinnipeg.com/wp-content/uploads/2026/04/6.png
GEO:49.897327090182;-97.133363989882
X-APPLE-STRUCTURED-LOCATION;VALUE=URI;X-ADDRESS=Waterfront Drive – North Roundabout Waterfront Dr Winnipeg Manitoba R3B 0C5 Canada;X-APPLE-RADIUS=500;X-TITLE=Waterfront Dr:geo:-97.133363989882,49.897327090182
END:VEVENT
BEGIN:VEVENT
DTSTART;TZID=America/Winnipeg:20260609T063000
DTEND;TZID=America/Winnipeg:20260609T090000
DTSTAMP:20260423T084908
CREATED:20260402T151038Z
LAST-MODIFIED:20260407T201005Z
UID:10005562-1780986600-1780995600@bikeweekwinnipeg.com
SUMMARY:Manitoba Blue Cross Pit Stop
DESCRIPTION:
URL:https://bikeweekwinnipeg.com/event/manitoba-blue-cross-pit-stop/
LOCATION:Empress St E at Westway\, Along Bike Path near Blue Stem Nature Park\, Winnipeg\, MB\, Canada
CATEGORIES:Bike to Work Day,On-Site Mechanic,Pit Stops
ATTACH;FMTTYPE=image/png:https://bikeweekwinnipeg.com/wp-content/uploads/2026/04/4.png
GEO:49.884183080017;-97.194726922812
X-APPLE-STRUCTURED-LOCATION;VALUE=URI;X-ADDRESS=Empress St E at Westway Along Bike Path near Blue Stem Nature Park Winnipeg MB Canada;X-APPLE-RADIUS=500;X-TITLE=Along Bike Path near Blue Stem Nature Park:geo:-97.194726922812,49.884183080017
END:VEVENT
BEGIN:VEVENT
DTSTART;TZID=America/Winnipeg:20260609T090000
DTEND;TZID=America/Winnipeg:20260609T140000
DTSTAMP:20260423T084908
CREATED:20260303T155224Z
LAST-MODIFIED:20260416T170040Z
UID:10004983-1780995600-1781013600@bikeweekwinnipeg.com
SUMMARY:MPI All Day Pit Stop
DESCRIPTION:Visit Bike Week Winnipeg and MPI! This pit stop is located just outside the Forks Market by the train cars. Park your bike and step into the Forks for a tasty treat\, or lunch! \n\n\n\nWe will have a mechanic on site to check your bike over and provide minor adjustments/repairs.
URL:https://bikeweekwinnipeg.com/event/mpi-all-day-pit-stop-2026/
LOCATION:The Forks – Market Plaza and Canopy\, Winnipeg\, Manitoba\, Canada
CATEGORIES:Bike to Work Day,On-Site Mechanic,Pit Stops
ATTACH;FMTTYPE=image/png:https://bikeweekwinnipeg.com/wp-content/uploads/2026/03/BW2026-Manitoba_Public_Insurance.png
GEO:49.886993876955;-97.130455292266
END:VEVENT
END:VCALENDAR