BEGIN:VCALENDAR
VERSION:2.0
PRODID:-//Bike Week Winnipeg - ECPv6.15.18//NONSGML v1.0//EN
CALSCALE:GREGORIAN
METHOD:PUBLISH
X-WR-CALNAME:Bike Week Winnipeg
X-ORIGINAL-URL:https://bikeweekwinnipeg.com
X-WR-CALDESC:Events for Bike Week Winnipeg
REFRESH-INTERVAL;VALUE=DURATION:PT1H
X-Robots-Tag:noindex
X-PUBLISHED-TTL:PT1H
BEGIN:VTIMEZONE
TZID:America/Winnipeg
BEGIN:DAYLIGHT
TZOFFSETFROM:-0600
TZOFFSETTO:-0500
TZNAME:CDT
DTSTART:20240310T080000
END:DAYLIGHT
BEGIN:STANDARD
TZOFFSETFROM:-0500
TZOFFSETTO:-0600
TZNAME:CST
DTSTART:20241103T070000
END:STANDARD
BEGIN:DAYLIGHT
TZOFFSETFROM:-0600
TZOFFSETTO:-0500
TZNAME:CDT
DTSTART:20250309T080000
END:DAYLIGHT
BEGIN:STANDARD
TZOFFSETFROM:-0500
TZOFFSETTO:-0600
TZNAME:CST
DTSTART:20251102T070000
END:STANDARD
BEGIN:DAYLIGHT
TZOFFSETFROM:-0600
TZOFFSETTO:-0500
TZNAME:CDT
DTSTART:20260308T080000
END:DAYLIGHT
BEGIN:STANDARD
TZOFFSETFROM:-0500
TZOFFSETTO:-0600
TZNAME:CST
DTSTART:20261101T070000
END:STANDARD
END:VTIMEZONE
BEGIN:VEVENT
DTSTART;TZID=America/Winnipeg:20250617T190000
DTEND;TZID=America/Winnipeg:20250617T210000
DTSTAMP:20260419T081438
CREATED:20250523T202242Z
LAST-MODIFIED:20250605T161850Z
UID:10004961-1750186800-1750194000@bikeweekwinnipeg.com
SUMMARY:South West Local Bike Group Ride
DESCRIPTION:Starting Point: Chancellor Matheson Road & Research Road
URL:https://bikeweekwinnipeg.com/event/south-west-local-bike-group-ride/
CATEGORIES:Group Rides
END:VEVENT
BEGIN:VEVENT
DTSTART;TZID=America/Winnipeg:20250618T190000
DTEND;TZID=America/Winnipeg:20250618T190000
DTSTAMP:20260419T081438
CREATED:20240605T165830Z
LAST-MODIFIED:20260303T185906Z
UID:10003092-1750273200-1750273200@bikeweekwinnipeg.com
SUMMARY:Bourkevale Community Ride
DESCRIPTION:Every Wednesday at 7pm we’ll leave from the Community centre and explore our neighbourhood and other parts of the city connected by bike paths. This is a relaxed ride that only goes as fast as our slowest rider. Come join us and meet your neighbours and discover how connected our community is to bike infrastructure throughout the city. \n\n\n\nAll rides will return to the Bourkevale Community Centre at 8pm unless otherwise stated. All riders are welcome\, Bikes need to be in good working condition and children under the age of 18 must wear a helmet.
URL:https://bikeweekwinnipeg.com/event/wednesday-evening-community-bike-rides-bourkevale-community-centre/2025-06-18/
LOCATION:Bourkevale Community Centre\, 100 Ferry Road\, Winnipeg\, MB\, R3J 1V8
CATEGORIES:Group Rides
ATTACH;FMTTYPE=image/png:https://bikeweekwinnipeg.com/wp-content/uploads/2022/06/Bourkvale-CC.png
ORGANIZER;CN="Bourkevale Community Centre":MAILTO:bourkevale@gmail.com
GEO:49.8747145;-97.2195907
X-APPLE-STRUCTURED-LOCATION;VALUE=URI;X-ADDRESS=Bourkevale Community Centre 100 Ferry Road Winnipeg MB R3J 1V8;X-APPLE-RADIUS=500;X-TITLE=100 Ferry Road:geo:-97.2195907,49.8747145
END:VEVENT
BEGIN:VEVENT
DTSTART;TZID=America/Winnipeg:20250618T190000
DTEND;TZID=America/Winnipeg:20250618T203000
DTSTAMP:20260419T081438
CREATED:20250523T202357Z
LAST-MODIFIED:20250523T202400Z
UID:10004962-1750273200-1750278600@bikeweekwinnipeg.com
SUMMARY:City Centre Local Bike Group Ride
DESCRIPTION:Regular monthly of the City Centre Local Bike GroupDo you wish riding in Central Winnipeg was easier? We’re looking for feedback on what routes work well\, and which ones need attention\, and whatever else you feel would make riding a bike better and safer in the City wards of Daniel McIntyre\, Fort Rouge-East Fort Garry\, and River Heights-Fort Garry. And we want to share Bike Winnipeg’s knowledge\, information and events with you. \n\n\n\nJoin us for our monthly City Centre Local Bike Group meeting at 7 PM on the third Wednesday of the month. In winter we meet on Zoom. In spring\, summer and fall\, we meet at The Forks Market out on the plaza\, weather permitting. \n\n\n\nIf you would like to join the mailing list for this local bike group or for any other information including the meeting link\, please contact citycentre.LBG@bikewinnipeg.ca. \n\n\n\nEveryone’s opinion matters. We need to hear from people like you!
URL:https://bikeweekwinnipeg.com/event/city-centre-local-bike-group-ride/
CATEGORIES:Group Rides
END:VEVENT
END:VCALENDAR