BEGIN:VCALENDAR
VERSION:2.0
PRODID:-//Bike Week Winnipeg - ECPv6.15.18//NONSGML v1.0//EN
CALSCALE:GREGORIAN
METHOD:PUBLISH
X-WR-CALNAME:Bike Week Winnipeg
X-ORIGINAL-URL:https://bikeweekwinnipeg.com
X-WR-CALDESC:Events for Bike Week Winnipeg
REFRESH-INTERVAL;VALUE=DURATION:PT1H
X-Robots-Tag:noindex
X-PUBLISHED-TTL:PT1H
BEGIN:VTIMEZONE
TZID:America/Winnipeg
BEGIN:DAYLIGHT
TZOFFSETFROM:-0600
TZOFFSETTO:-0500
TZNAME:CDT
DTSTART:20250309T080000
END:DAYLIGHT
BEGIN:STANDARD
TZOFFSETFROM:-0500
TZOFFSETTO:-0600
TZNAME:CST
DTSTART:20251102T070000
END:STANDARD
BEGIN:DAYLIGHT
TZOFFSETFROM:-0600
TZOFFSETTO:-0500
TZNAME:CDT
DTSTART:20260308T080000
END:DAYLIGHT
BEGIN:STANDARD
TZOFFSETFROM:-0500
TZOFFSETTO:-0600
TZNAME:CST
DTSTART:20261101T070000
END:STANDARD
BEGIN:DAYLIGHT
TZOFFSETFROM:-0600
TZOFFSETTO:-0500
TZNAME:CDT
DTSTART:20270314T080000
END:DAYLIGHT
BEGIN:STANDARD
TZOFFSETFROM:-0500
TZOFFSETTO:-0600
TZNAME:CST
DTSTART:20271107T070000
END:STANDARD
END:VTIMEZONE
BEGIN:VEVENT
DTSTART;TZID=America/Winnipeg:20260420T130000
DTEND;TZID=America/Winnipeg:20260420T170000
DTSTAMP:20260420T060600
CREATED:20240604T163548Z
LAST-MODIFIED:20260303T185256Z
UID:10002080-1776690000-1776704400@bikeweekwinnipeg.com
SUMMARY:USWA Bike Lab: Open Shop Hours
DESCRIPTION: The UWSA Bike Lab is the central hub for cyclers in Winnipeg’s downtown core. It’s an easily accessible on-campus maintenance pit-stop for students and community members. The lab hosts workshops for all skill levels and it is also open during the week for cyclists to drop-by and work on their bikes.
URL:https://bikeweekwinnipeg.com/event/uswa-bike-lab-open-shop-hours-2/2026-04-20/
LOCATION:UWSA Bike Lab\, 395-403 Spence St\, Winnipeg\, Winnipeg\, R3B 3J5\, Canada
CATEGORIES:Community Bike Shops - Open Hours
ATTACH;FMTTYPE=image/png:https://bikeweekwinnipeg.com/wp-content/uploads/2024/06/USWA-BikeLab-Feature.png
GEO:49.8907415;-97.1538587
X-APPLE-STRUCTURED-LOCATION;VALUE=URI;X-ADDRESS=UWSA Bike Lab 395-403 Spence St Winnipeg Winnipeg R3B 3J5 Canada;X-APPLE-RADIUS=500;X-TITLE=395-403 Spence St:geo:-97.1538587,49.8907415
END:VEVENT
END:VCALENDAR